BEGIN:VCALENDAR
VERSION:2.0
PRODID:-//Sea Trail Resort - ECPv6.15.20//NONSGML v1.0//EN
CALSCALE:GREGORIAN
METHOD:PUBLISH
X-ORIGINAL-URL:https://seatrail.com
X-WR-CALDESC:Events for Sea Trail Resort
REFRESH-INTERVAL;VALUE=DURATION:PT1H
X-Robots-Tag:noindex
X-PUBLISHED-TTL:PT1H
BEGIN:VTIMEZONE
TZID:America/New_York
BEGIN:DAYLIGHT
TZOFFSETFROM:-0500
TZOFFSETTO:-0400
TZNAME:EDT
DTSTART:20250309T070000
END:DAYLIGHT
BEGIN:STANDARD
TZOFFSETFROM:-0400
TZOFFSETTO:-0500
TZNAME:EST
DTSTART:20251102T060000
END:STANDARD
BEGIN:DAYLIGHT
TZOFFSETFROM:-0500
TZOFFSETTO:-0400
TZNAME:EDT
DTSTART:20260308T070000
END:DAYLIGHT
BEGIN:STANDARD
TZOFFSETFROM:-0400
TZOFFSETTO:-0500
TZNAME:EST
DTSTART:20261101T060000
END:STANDARD
BEGIN:DAYLIGHT
TZOFFSETFROM:-0500
TZOFFSETTO:-0400
TZNAME:EDT
DTSTART:20270314T070000
END:DAYLIGHT
BEGIN:STANDARD
TZOFFSETFROM:-0400
TZOFFSETTO:-0500
TZNAME:EST
DTSTART:20271107T060000
END:STANDARD
END:VTIMEZONE
BEGIN:VEVENT
DTSTART;TZID=America/New_York:20260426T180000
DTEND;TZID=America/New_York:20260426T210000
DTSTAMP:20260423T222546
CREATED:20260422T152051Z
LAST-MODIFIED:20260422T152051Z
UID:10005814-1777226400-1777237200@seatrail.com
SUMMARY:Karaoke @ 55 Bistro Bar
DESCRIPTION:End your weekend on a high note at 55 Bistro Bar. Karaoke takes over every Sunday from 6PM–9PM with great drinks\, good energy\, and a relaxed setting that brings guests and locals together. Settle in and enjoy a fun\, easygoing night at Sea Trail!
URL:https://seatrail.com/event/karaoke-55-bistro-bar/2026-04-26/
LOCATION:55 Bistro Bar\, 75 Clubhouse Road\, Sunset Beach\, NC\, 28468\, United States
CATEGORIES:Hosted Events
ATTACH;FMTTYPE=image/png:https://seatrail.com/wp-content/uploads/2026/04/Julie-TV-Ads-11.png
END:VEVENT
BEGIN:VEVENT
DTSTART;TZID=America/New_York:20260503T180000
DTEND;TZID=America/New_York:20260503T210000
DTSTAMP:20260423T222546
CREATED:20260422T152051Z
LAST-MODIFIED:20260422T152051Z
UID:10005815-1777831200-1777842000@seatrail.com
SUMMARY:Karaoke @ 55 Bistro Bar
DESCRIPTION:End your weekend on a high note at 55 Bistro Bar. Karaoke takes over every Sunday from 6PM–9PM with great drinks\, good energy\, and a relaxed setting that brings guests and locals together. Settle in and enjoy a fun\, easygoing night at Sea Trail!
URL:https://seatrail.com/event/karaoke-55-bistro-bar/2026-05-03/
LOCATION:55 Bistro Bar\, 75 Clubhouse Road\, Sunset Beach\, NC\, 28468\, United States
CATEGORIES:Hosted Events
ATTACH;FMTTYPE=image/png:https://seatrail.com/wp-content/uploads/2026/04/Julie-TV-Ads-11.png
END:VEVENT
BEGIN:VEVENT
DTSTART;TZID=America/New_York:20260510T180000
DTEND;TZID=America/New_York:20260510T210000
DTSTAMP:20260423T222546
CREATED:20260422T152051Z
LAST-MODIFIED:20260422T152051Z
UID:10005816-1778436000-1778446800@seatrail.com
SUMMARY:Karaoke @ 55 Bistro Bar
DESCRIPTION:End your weekend on a high note at 55 Bistro Bar. Karaoke takes over every Sunday from 6PM–9PM with great drinks\, good energy\, and a relaxed setting that brings guests and locals together. Settle in and enjoy a fun\, easygoing night at Sea Trail!
URL:https://seatrail.com/event/karaoke-55-bistro-bar/2026-05-10/
LOCATION:55 Bistro Bar\, 75 Clubhouse Road\, Sunset Beach\, NC\, 28468\, United States
CATEGORIES:Hosted Events
ATTACH;FMTTYPE=image/png:https://seatrail.com/wp-content/uploads/2026/04/Julie-TV-Ads-11.png
END:VEVENT
BEGIN:VEVENT
DTSTART;TZID=America/New_York:20260517T180000
DTEND;TZID=America/New_York:20260517T210000
DTSTAMP:20260423T222546
CREATED:20260422T152051Z
LAST-MODIFIED:20260422T152051Z
UID:10005817-1779040800-1779051600@seatrail.com
SUMMARY:Karaoke @ 55 Bistro Bar
DESCRIPTION:End your weekend on a high note at 55 Bistro Bar. Karaoke takes over every Sunday from 6PM–9PM with great drinks\, good energy\, and a relaxed setting that brings guests and locals together. Settle in and enjoy a fun\, easygoing night at Sea Trail!
URL:https://seatrail.com/event/karaoke-55-bistro-bar/2026-05-17/
LOCATION:55 Bistro Bar\, 75 Clubhouse Road\, Sunset Beach\, NC\, 28468\, United States
CATEGORIES:Hosted Events
ATTACH;FMTTYPE=image/png:https://seatrail.com/wp-content/uploads/2026/04/Julie-TV-Ads-11.png
END:VEVENT
BEGIN:VEVENT
DTSTART;TZID=America/New_York:20260524T180000
DTEND;TZID=America/New_York:20260524T210000
DTSTAMP:20260423T222546
CREATED:20260422T152051Z
LAST-MODIFIED:20260422T152051Z
UID:10005818-1779645600-1779656400@seatrail.com
SUMMARY:Karaoke @ 55 Bistro Bar
DESCRIPTION:End your weekend on a high note at 55 Bistro Bar. Karaoke takes over every Sunday from 6PM–9PM with great drinks\, good energy\, and a relaxed setting that brings guests and locals together. Settle in and enjoy a fun\, easygoing night at Sea Trail!
URL:https://seatrail.com/event/karaoke-55-bistro-bar/2026-05-24/
LOCATION:55 Bistro Bar\, 75 Clubhouse Road\, Sunset Beach\, NC\, 28468\, United States
CATEGORIES:Hosted Events
ATTACH;FMTTYPE=image/png:https://seatrail.com/wp-content/uploads/2026/04/Julie-TV-Ads-11.png
END:VEVENT
BEGIN:VEVENT
DTSTART;TZID=America/New_York:20260531T180000
DTEND;TZID=America/New_York:20260531T210000
DTSTAMP:20260423T222546
CREATED:20260422T152051Z
LAST-MODIFIED:20260422T152051Z
UID:10005819-1780250400-1780261200@seatrail.com
SUMMARY:Karaoke @ 55 Bistro Bar
DESCRIPTION:End your weekend on a high note at 55 Bistro Bar. Karaoke takes over every Sunday from 6PM–9PM with great drinks\, good energy\, and a relaxed setting that brings guests and locals together. Settle in and enjoy a fun\, easygoing night at Sea Trail!
URL:https://seatrail.com/event/karaoke-55-bistro-bar/2026-05-31/
LOCATION:55 Bistro Bar\, 75 Clubhouse Road\, Sunset Beach\, NC\, 28468\, United States
CATEGORIES:Hosted Events
ATTACH;FMTTYPE=image/png:https://seatrail.com/wp-content/uploads/2026/04/Julie-TV-Ads-11.png
END:VEVENT
BEGIN:VEVENT
DTSTART;TZID=America/New_York:20260607T180000
DTEND;TZID=America/New_York:20260607T210000
DTSTAMP:20260423T222546
CREATED:20260422T152051Z
LAST-MODIFIED:20260422T152051Z
UID:10005820-1780855200-1780866000@seatrail.com
SUMMARY:Karaoke @ 55 Bistro Bar
DESCRIPTION:End your weekend on a high note at 55 Bistro Bar. Karaoke takes over every Sunday from 6PM–9PM with great drinks\, good energy\, and a relaxed setting that brings guests and locals together. Settle in and enjoy a fun\, easygoing night at Sea Trail!
URL:https://seatrail.com/event/karaoke-55-bistro-bar/2026-06-07/
LOCATION:55 Bistro Bar\, 75 Clubhouse Road\, Sunset Beach\, NC\, 28468\, United States
CATEGORIES:Hosted Events
ATTACH;FMTTYPE=image/png:https://seatrail.com/wp-content/uploads/2026/04/Julie-TV-Ads-11.png
END:VEVENT
BEGIN:VEVENT
DTSTART;TZID=America/New_York:20260614T180000
DTEND;TZID=America/New_York:20260614T210000
DTSTAMP:20260423T222546
CREATED:20260422T152051Z
LAST-MODIFIED:20260422T152051Z
UID:10005821-1781460000-1781470800@seatrail.com
SUMMARY:Karaoke @ 55 Bistro Bar
DESCRIPTION:End your weekend on a high note at 55 Bistro Bar. Karaoke takes over every Sunday from 6PM–9PM with great drinks\, good energy\, and a relaxed setting that brings guests and locals together. Settle in and enjoy a fun\, easygoing night at Sea Trail!
URL:https://seatrail.com/event/karaoke-55-bistro-bar/2026-06-14/
LOCATION:55 Bistro Bar\, 75 Clubhouse Road\, Sunset Beach\, NC\, 28468\, United States
CATEGORIES:Hosted Events
ATTACH;FMTTYPE=image/png:https://seatrail.com/wp-content/uploads/2026/04/Julie-TV-Ads-11.png
END:VEVENT
BEGIN:VEVENT
DTSTART;TZID=America/New_York:20260621T180000
DTEND;TZID=America/New_York:20260621T210000
DTSTAMP:20260423T222546
CREATED:20260422T152051Z
LAST-MODIFIED:20260422T152051Z
UID:10005822-1782064800-1782075600@seatrail.com
SUMMARY:Karaoke @ 55 Bistro Bar
DESCRIPTION:End your weekend on a high note at 55 Bistro Bar. Karaoke takes over every Sunday from 6PM–9PM with great drinks\, good energy\, and a relaxed setting that brings guests and locals together. Settle in and enjoy a fun\, easygoing night at Sea Trail!
URL:https://seatrail.com/event/karaoke-55-bistro-bar/2026-06-21/
LOCATION:55 Bistro Bar\, 75 Clubhouse Road\, Sunset Beach\, NC\, 28468\, United States
CATEGORIES:Hosted Events
ATTACH;FMTTYPE=image/png:https://seatrail.com/wp-content/uploads/2026/04/Julie-TV-Ads-11.png
END:VEVENT
BEGIN:VEVENT
DTSTART;TZID=America/New_York:20260628T180000
DTEND;TZID=America/New_York:20260628T210000
DTSTAMP:20260423T222546
CREATED:20260422T152051Z
LAST-MODIFIED:20260422T152051Z
UID:10005823-1782669600-1782680400@seatrail.com
SUMMARY:Karaoke @ 55 Bistro Bar
DESCRIPTION:End your weekend on a high note at 55 Bistro Bar. Karaoke takes over every Sunday from 6PM–9PM with great drinks\, good energy\, and a relaxed setting that brings guests and locals together. Settle in and enjoy a fun\, easygoing night at Sea Trail!
URL:https://seatrail.com/event/karaoke-55-bistro-bar/2026-06-28/
LOCATION:55 Bistro Bar\, 75 Clubhouse Road\, Sunset Beach\, NC\, 28468\, United States
CATEGORIES:Hosted Events
ATTACH;FMTTYPE=image/png:https://seatrail.com/wp-content/uploads/2026/04/Julie-TV-Ads-11.png
END:VEVENT
BEGIN:VEVENT
DTSTART;TZID=America/New_York:20260705T180000
DTEND;TZID=America/New_York:20260705T210000
DTSTAMP:20260423T222546
CREATED:20260422T152051Z
LAST-MODIFIED:20260422T152051Z
UID:10005824-1783274400-1783285200@seatrail.com
SUMMARY:Karaoke @ 55 Bistro Bar
DESCRIPTION:End your weekend on a high note at 55 Bistro Bar. Karaoke takes over every Sunday from 6PM–9PM with great drinks\, good energy\, and a relaxed setting that brings guests and locals together. Settle in and enjoy a fun\, easygoing night at Sea Trail!
URL:https://seatrail.com/event/karaoke-55-bistro-bar/2026-07-05/
LOCATION:55 Bistro Bar\, 75 Clubhouse Road\, Sunset Beach\, NC\, 28468\, United States
CATEGORIES:Hosted Events
ATTACH;FMTTYPE=image/png:https://seatrail.com/wp-content/uploads/2026/04/Julie-TV-Ads-11.png
END:VEVENT
BEGIN:VEVENT
DTSTART;TZID=America/New_York:20260712T180000
DTEND;TZID=America/New_York:20260712T210000
DTSTAMP:20260423T222546
CREATED:20260422T152051Z
LAST-MODIFIED:20260422T152051Z
UID:10005825-1783879200-1783890000@seatrail.com
SUMMARY:Karaoke @ 55 Bistro Bar
DESCRIPTION:End your weekend on a high note at 55 Bistro Bar. Karaoke takes over every Sunday from 6PM–9PM with great drinks\, good energy\, and a relaxed setting that brings guests and locals together. Settle in and enjoy a fun\, easygoing night at Sea Trail!
URL:https://seatrail.com/event/karaoke-55-bistro-bar/2026-07-12/
LOCATION:55 Bistro Bar\, 75 Clubhouse Road\, Sunset Beach\, NC\, 28468\, United States
CATEGORIES:Hosted Events
ATTACH;FMTTYPE=image/png:https://seatrail.com/wp-content/uploads/2026/04/Julie-TV-Ads-11.png
END:VEVENT
BEGIN:VEVENT
DTSTART;TZID=America/New_York:20260719T180000
DTEND;TZID=America/New_York:20260719T210000
DTSTAMP:20260423T222546
CREATED:20260422T152051Z
LAST-MODIFIED:20260422T152051Z
UID:10005826-1784484000-1784494800@seatrail.com
SUMMARY:Karaoke @ 55 Bistro Bar
DESCRIPTION:End your weekend on a high note at 55 Bistro Bar. Karaoke takes over every Sunday from 6PM–9PM with great drinks\, good energy\, and a relaxed setting that brings guests and locals together. Settle in and enjoy a fun\, easygoing night at Sea Trail!
URL:https://seatrail.com/event/karaoke-55-bistro-bar/2026-07-19/
LOCATION:55 Bistro Bar\, 75 Clubhouse Road\, Sunset Beach\, NC\, 28468\, United States
CATEGORIES:Hosted Events
ATTACH;FMTTYPE=image/png:https://seatrail.com/wp-content/uploads/2026/04/Julie-TV-Ads-11.png
END:VEVENT
BEGIN:VEVENT
DTSTART;TZID=America/New_York:20260726T180000
DTEND;TZID=America/New_York:20260726T210000
DTSTAMP:20260423T222546
CREATED:20260422T152051Z
LAST-MODIFIED:20260422T152051Z
UID:10005827-1785088800-1785099600@seatrail.com
SUMMARY:Karaoke @ 55 Bistro Bar
DESCRIPTION:End your weekend on a high note at 55 Bistro Bar. Karaoke takes over every Sunday from 6PM–9PM with great drinks\, good energy\, and a relaxed setting that brings guests and locals together. Settle in and enjoy a fun\, easygoing night at Sea Trail!
URL:https://seatrail.com/event/karaoke-55-bistro-bar/2026-07-26/
LOCATION:55 Bistro Bar\, 75 Clubhouse Road\, Sunset Beach\, NC\, 28468\, United States
CATEGORIES:Hosted Events
ATTACH;FMTTYPE=image/png:https://seatrail.com/wp-content/uploads/2026/04/Julie-TV-Ads-11.png
END:VEVENT
BEGIN:VEVENT
DTSTART;TZID=America/New_York:20260802T180000
DTEND;TZID=America/New_York:20260802T210000
DTSTAMP:20260423T222546
CREATED:20260422T152051Z
LAST-MODIFIED:20260422T152051Z
UID:10005828-1785693600-1785704400@seatrail.com
SUMMARY:Karaoke @ 55 Bistro Bar
DESCRIPTION:End your weekend on a high note at 55 Bistro Bar. Karaoke takes over every Sunday from 6PM–9PM with great drinks\, good energy\, and a relaxed setting that brings guests and locals together. Settle in and enjoy a fun\, easygoing night at Sea Trail!
URL:https://seatrail.com/event/karaoke-55-bistro-bar/2026-08-02/
LOCATION:55 Bistro Bar\, 75 Clubhouse Road\, Sunset Beach\, NC\, 28468\, United States
CATEGORIES:Hosted Events
ATTACH;FMTTYPE=image/png:https://seatrail.com/wp-content/uploads/2026/04/Julie-TV-Ads-11.png
END:VEVENT
BEGIN:VEVENT
DTSTART;TZID=America/New_York:20260809T180000
DTEND;TZID=America/New_York:20260809T210000
DTSTAMP:20260423T222546
CREATED:20260422T152051Z
LAST-MODIFIED:20260422T152051Z
UID:10005829-1786298400-1786309200@seatrail.com
SUMMARY:Karaoke @ 55 Bistro Bar
DESCRIPTION:End your weekend on a high note at 55 Bistro Bar. Karaoke takes over every Sunday from 6PM–9PM with great drinks\, good energy\, and a relaxed setting that brings guests and locals together. Settle in and enjoy a fun\, easygoing night at Sea Trail!
URL:https://seatrail.com/event/karaoke-55-bistro-bar/2026-08-09/
LOCATION:55 Bistro Bar\, 75 Clubhouse Road\, Sunset Beach\, NC\, 28468\, United States
CATEGORIES:Hosted Events
ATTACH;FMTTYPE=image/png:https://seatrail.com/wp-content/uploads/2026/04/Julie-TV-Ads-11.png
END:VEVENT
BEGIN:VEVENT
DTSTART;TZID=America/New_York:20260816T180000
DTEND;TZID=America/New_York:20260816T210000
DTSTAMP:20260423T222546
CREATED:20260422T152051Z
LAST-MODIFIED:20260422T152051Z
UID:10005830-1786903200-1786914000@seatrail.com
SUMMARY:Karaoke @ 55 Bistro Bar
DESCRIPTION:End your weekend on a high note at 55 Bistro Bar. Karaoke takes over every Sunday from 6PM–9PM with great drinks\, good energy\, and a relaxed setting that brings guests and locals together. Settle in and enjoy a fun\, easygoing night at Sea Trail!
URL:https://seatrail.com/event/karaoke-55-bistro-bar/2026-08-16/
LOCATION:55 Bistro Bar\, 75 Clubhouse Road\, Sunset Beach\, NC\, 28468\, United States
CATEGORIES:Hosted Events
ATTACH;FMTTYPE=image/png:https://seatrail.com/wp-content/uploads/2026/04/Julie-TV-Ads-11.png
END:VEVENT
BEGIN:VEVENT
DTSTART;TZID=America/New_York:20260823T180000
DTEND;TZID=America/New_York:20260823T210000
DTSTAMP:20260423T222546
CREATED:20260422T152051Z
LAST-MODIFIED:20260422T152051Z
UID:10005831-1787508000-1787518800@seatrail.com
SUMMARY:Karaoke @ 55 Bistro Bar
DESCRIPTION:End your weekend on a high note at 55 Bistro Bar. Karaoke takes over every Sunday from 6PM–9PM with great drinks\, good energy\, and a relaxed setting that brings guests and locals together. Settle in and enjoy a fun\, easygoing night at Sea Trail!
URL:https://seatrail.com/event/karaoke-55-bistro-bar/2026-08-23/
LOCATION:55 Bistro Bar\, 75 Clubhouse Road\, Sunset Beach\, NC\, 28468\, United States
CATEGORIES:Hosted Events
ATTACH;FMTTYPE=image/png:https://seatrail.com/wp-content/uploads/2026/04/Julie-TV-Ads-11.png
END:VEVENT
BEGIN:VEVENT
DTSTART;TZID=America/New_York:20260830T180000
DTEND;TZID=America/New_York:20260830T210000
DTSTAMP:20260423T222546
CREATED:20260422T152051Z
LAST-MODIFIED:20260422T152051Z
UID:10005832-1788112800-1788123600@seatrail.com
SUMMARY:Karaoke @ 55 Bistro Bar
DESCRIPTION:End your weekend on a high note at 55 Bistro Bar. Karaoke takes over every Sunday from 6PM–9PM with great drinks\, good energy\, and a relaxed setting that brings guests and locals together. Settle in and enjoy a fun\, easygoing night at Sea Trail!
URL:https://seatrail.com/event/karaoke-55-bistro-bar/2026-08-30/
LOCATION:55 Bistro Bar\, 75 Clubhouse Road\, Sunset Beach\, NC\, 28468\, United States
CATEGORIES:Hosted Events
ATTACH;FMTTYPE=image/png:https://seatrail.com/wp-content/uploads/2026/04/Julie-TV-Ads-11.png
END:VEVENT
BEGIN:VEVENT
DTSTART;TZID=America/New_York:20260906T180000
DTEND;TZID=America/New_York:20260906T210000
DTSTAMP:20260423T222546
CREATED:20260422T152051Z
LAST-MODIFIED:20260422T152051Z
UID:10005833-1788717600-1788728400@seatrail.com
SUMMARY:Karaoke @ 55 Bistro Bar
DESCRIPTION:End your weekend on a high note at 55 Bistro Bar. Karaoke takes over every Sunday from 6PM–9PM with great drinks\, good energy\, and a relaxed setting that brings guests and locals together. Settle in and enjoy a fun\, easygoing night at Sea Trail!
URL:https://seatrail.com/event/karaoke-55-bistro-bar/2026-09-06/
LOCATION:55 Bistro Bar\, 75 Clubhouse Road\, Sunset Beach\, NC\, 28468\, United States
CATEGORIES:Hosted Events
ATTACH;FMTTYPE=image/png:https://seatrail.com/wp-content/uploads/2026/04/Julie-TV-Ads-11.png
END:VEVENT
BEGIN:VEVENT
DTSTART;TZID=America/New_York:20260913T180000
DTEND;TZID=America/New_York:20260913T210000
DTSTAMP:20260423T222546
CREATED:20260422T152051Z
LAST-MODIFIED:20260422T152051Z
UID:10005834-1789322400-1789333200@seatrail.com
SUMMARY:Karaoke @ 55 Bistro Bar
DESCRIPTION:End your weekend on a high note at 55 Bistro Bar. Karaoke takes over every Sunday from 6PM–9PM with great drinks\, good energy\, and a relaxed setting that brings guests and locals together. Settle in and enjoy a fun\, easygoing night at Sea Trail!
URL:https://seatrail.com/event/karaoke-55-bistro-bar/2026-09-13/
LOCATION:55 Bistro Bar\, 75 Clubhouse Road\, Sunset Beach\, NC\, 28468\, United States
CATEGORIES:Hosted Events
ATTACH;FMTTYPE=image/png:https://seatrail.com/wp-content/uploads/2026/04/Julie-TV-Ads-11.png
END:VEVENT
BEGIN:VEVENT
DTSTART;TZID=America/New_York:20260920T180000
DTEND;TZID=America/New_York:20260920T210000
DTSTAMP:20260423T222546
CREATED:20260422T152051Z
LAST-MODIFIED:20260422T152051Z
UID:10005835-1789927200-1789938000@seatrail.com
SUMMARY:Karaoke @ 55 Bistro Bar
DESCRIPTION:End your weekend on a high note at 55 Bistro Bar. Karaoke takes over every Sunday from 6PM–9PM with great drinks\, good energy\, and a relaxed setting that brings guests and locals together. Settle in and enjoy a fun\, easygoing night at Sea Trail!
URL:https://seatrail.com/event/karaoke-55-bistro-bar/2026-09-20/
LOCATION:55 Bistro Bar\, 75 Clubhouse Road\, Sunset Beach\, NC\, 28468\, United States
CATEGORIES:Hosted Events
ATTACH;FMTTYPE=image/png:https://seatrail.com/wp-content/uploads/2026/04/Julie-TV-Ads-11.png
END:VEVENT
BEGIN:VEVENT
DTSTART;TZID=America/New_York:20260927T180000
DTEND;TZID=America/New_York:20260927T210000
DTSTAMP:20260423T222546
CREATED:20260422T152051Z
LAST-MODIFIED:20260422T152051Z
UID:10005836-1790532000-1790542800@seatrail.com
SUMMARY:Karaoke @ 55 Bistro Bar
DESCRIPTION:End your weekend on a high note at 55 Bistro Bar. Karaoke takes over every Sunday from 6PM–9PM with great drinks\, good energy\, and a relaxed setting that brings guests and locals together. Settle in and enjoy a fun\, easygoing night at Sea Trail!
URL:https://seatrail.com/event/karaoke-55-bistro-bar/2026-09-27/
LOCATION:55 Bistro Bar\, 75 Clubhouse Road\, Sunset Beach\, NC\, 28468\, United States
CATEGORIES:Hosted Events
ATTACH;FMTTYPE=image/png:https://seatrail.com/wp-content/uploads/2026/04/Julie-TV-Ads-11.png
END:VEVENT
BEGIN:VEVENT
DTSTART;TZID=America/New_York:20261004T180000
DTEND;TZID=America/New_York:20261004T210000
DTSTAMP:20260423T222546
CREATED:20260422T152051Z
LAST-MODIFIED:20260422T152051Z
UID:10005837-1791136800-1791147600@seatrail.com
SUMMARY:Karaoke @ 55 Bistro Bar
DESCRIPTION:End your weekend on a high note at 55 Bistro Bar. Karaoke takes over every Sunday from 6PM–9PM with great drinks\, good energy\, and a relaxed setting that brings guests and locals together. Settle in and enjoy a fun\, easygoing night at Sea Trail!
URL:https://seatrail.com/event/karaoke-55-bistro-bar/2026-10-04/
LOCATION:55 Bistro Bar\, 75 Clubhouse Road\, Sunset Beach\, NC\, 28468\, United States
CATEGORIES:Hosted Events
ATTACH;FMTTYPE=image/png:https://seatrail.com/wp-content/uploads/2026/04/Julie-TV-Ads-11.png
END:VEVENT
BEGIN:VEVENT
DTSTART;TZID=America/New_York:20261011T180000
DTEND;TZID=America/New_York:20261011T210000
DTSTAMP:20260423T222546
CREATED:20260422T152051Z
LAST-MODIFIED:20260422T152051Z
UID:10005838-1791741600-1791752400@seatrail.com
SUMMARY:Karaoke @ 55 Bistro Bar
DESCRIPTION:End your weekend on a high note at 55 Bistro Bar. Karaoke takes over every Sunday from 6PM–9PM with great drinks\, good energy\, and a relaxed setting that brings guests and locals together. Settle in and enjoy a fun\, easygoing night at Sea Trail!
URL:https://seatrail.com/event/karaoke-55-bistro-bar/2026-10-11/
LOCATION:55 Bistro Bar\, 75 Clubhouse Road\, Sunset Beach\, NC\, 28468\, United States
CATEGORIES:Hosted Events
ATTACH;FMTTYPE=image/png:https://seatrail.com/wp-content/uploads/2026/04/Julie-TV-Ads-11.png
END:VEVENT
BEGIN:VEVENT
DTSTART;TZID=America/New_York:20261018T180000
DTEND;TZID=America/New_York:20261018T210000
DTSTAMP:20260423T222546
CREATED:20260422T152051Z
LAST-MODIFIED:20260422T152051Z
UID:10005839-1792346400-1792357200@seatrail.com
SUMMARY:Karaoke @ 55 Bistro Bar
DESCRIPTION:End your weekend on a high note at 55 Bistro Bar. Karaoke takes over every Sunday from 6PM–9PM with great drinks\, good energy\, and a relaxed setting that brings guests and locals together. Settle in and enjoy a fun\, easygoing night at Sea Trail!
URL:https://seatrail.com/event/karaoke-55-bistro-bar/2026-10-18/
LOCATION:55 Bistro Bar\, 75 Clubhouse Road\, Sunset Beach\, NC\, 28468\, United States
CATEGORIES:Hosted Events
ATTACH;FMTTYPE=image/png:https://seatrail.com/wp-content/uploads/2026/04/Julie-TV-Ads-11.png
END:VEVENT
BEGIN:VEVENT
DTSTART;TZID=America/New_York:20261025T180000
DTEND;TZID=America/New_York:20261025T210000
DTSTAMP:20260423T222546
CREATED:20260422T152051Z
LAST-MODIFIED:20260422T152051Z
UID:10005840-1792951200-1792962000@seatrail.com
SUMMARY:Karaoke @ 55 Bistro Bar
DESCRIPTION:End your weekend on a high note at 55 Bistro Bar. Karaoke takes over every Sunday from 6PM–9PM with great drinks\, good energy\, and a relaxed setting that brings guests and locals together. Settle in and enjoy a fun\, easygoing night at Sea Trail!
URL:https://seatrail.com/event/karaoke-55-bistro-bar/2026-10-25/
LOCATION:55 Bistro Bar\, 75 Clubhouse Road\, Sunset Beach\, NC\, 28468\, United States
CATEGORIES:Hosted Events
ATTACH;FMTTYPE=image/png:https://seatrail.com/wp-content/uploads/2026/04/Julie-TV-Ads-11.png
END:VEVENT
BEGIN:VEVENT
DTSTART;TZID=America/New_York:20261101T180000
DTEND;TZID=America/New_York:20261101T210000
DTSTAMP:20260423T222546
CREATED:20260422T152051Z
LAST-MODIFIED:20260422T152051Z
UID:10005841-1793556000-1793566800@seatrail.com
SUMMARY:Karaoke @ 55 Bistro Bar
DESCRIPTION:End your weekend on a high note at 55 Bistro Bar. Karaoke takes over every Sunday from 6PM–9PM with great drinks\, good energy\, and a relaxed setting that brings guests and locals together. Settle in and enjoy a fun\, easygoing night at Sea Trail!
URL:https://seatrail.com/event/karaoke-55-bistro-bar/2026-11-01/
LOCATION:55 Bistro Bar\, 75 Clubhouse Road\, Sunset Beach\, NC\, 28468\, United States
CATEGORIES:Hosted Events
ATTACH;FMTTYPE=image/png:https://seatrail.com/wp-content/uploads/2026/04/Julie-TV-Ads-11.png
END:VEVENT
BEGIN:VEVENT
DTSTART;TZID=America/New_York:20261108T180000
DTEND;TZID=America/New_York:20261108T210000
DTSTAMP:20260423T222546
CREATED:20260422T152051Z
LAST-MODIFIED:20260422T152051Z
UID:10005842-1794160800-1794171600@seatrail.com
SUMMARY:Karaoke @ 55 Bistro Bar
DESCRIPTION:End your weekend on a high note at 55 Bistro Bar. Karaoke takes over every Sunday from 6PM–9PM with great drinks\, good energy\, and a relaxed setting that brings guests and locals together. Settle in and enjoy a fun\, easygoing night at Sea Trail!
URL:https://seatrail.com/event/karaoke-55-bistro-bar/2026-11-08/
LOCATION:55 Bistro Bar\, 75 Clubhouse Road\, Sunset Beach\, NC\, 28468\, United States
CATEGORIES:Hosted Events
ATTACH;FMTTYPE=image/png:https://seatrail.com/wp-content/uploads/2026/04/Julie-TV-Ads-11.png
END:VEVENT
BEGIN:VEVENT
DTSTART;TZID=America/New_York:20261115T180000
DTEND;TZID=America/New_York:20261115T210000
DTSTAMP:20260423T222546
CREATED:20260422T152051Z
LAST-MODIFIED:20260422T152051Z
UID:10005843-1794765600-1794776400@seatrail.com
SUMMARY:Karaoke @ 55 Bistro Bar
DESCRIPTION:End your weekend on a high note at 55 Bistro Bar. Karaoke takes over every Sunday from 6PM–9PM with great drinks\, good energy\, and a relaxed setting that brings guests and locals together. Settle in and enjoy a fun\, easygoing night at Sea Trail!
URL:https://seatrail.com/event/karaoke-55-bistro-bar/2026-11-15/
LOCATION:55 Bistro Bar\, 75 Clubhouse Road\, Sunset Beach\, NC\, 28468\, United States
CATEGORIES:Hosted Events
ATTACH;FMTTYPE=image/png:https://seatrail.com/wp-content/uploads/2026/04/Julie-TV-Ads-11.png
END:VEVENT
END:VCALENDAR